
BEGIN:VCALENDAR
VERSION:2.0
PRODID:-//Invasive Mussel Collaborative - ECPv6.15.20//NONSGML v1.0//EN
CALSCALE:GREGORIAN
METHOD:PUBLISH
X-ORIGINAL-URL:https://invasivemusselcollaborative.net
X-WR-CALDESC:Events for Invasive Mussel Collaborative
REFRESH-INTERVAL;VALUE=DURATION:PT1H
X-Robots-Tag:noindex
X-PUBLISHED-TTL:PT1H
BEGIN:VTIMEZONE
TZID:America/Detroit
BEGIN:DAYLIGHT
TZOFFSETFROM:-0500
TZOFFSETTO:-0400
TZNAME:EDT
DTSTART:20170312T070000
END:DAYLIGHT
BEGIN:STANDARD
TZOFFSETFROM:-0400
TZOFFSETTO:-0500
TZNAME:EST
DTSTART:20171105T060000
END:STANDARD
BEGIN:DAYLIGHT
TZOFFSETFROM:-0500
TZOFFSETTO:-0400
TZNAME:EDT
DTSTART:20180311T070000
END:DAYLIGHT
BEGIN:STANDARD
TZOFFSETFROM:-0400
TZOFFSETTO:-0500
TZNAME:EST
DTSTART:20181104T060000
END:STANDARD
BEGIN:DAYLIGHT
TZOFFSETFROM:-0500
TZOFFSETTO:-0400
TZNAME:EDT
DTSTART:20190310T070000
END:DAYLIGHT
BEGIN:STANDARD
TZOFFSETFROM:-0400
TZOFFSETTO:-0500
TZNAME:EST
DTSTART:20191103T060000
END:STANDARD
BEGIN:DAYLIGHT
TZOFFSETFROM:-0500
TZOFFSETTO:-0400
TZNAME:EDT
DTSTART:20200308T070000
END:DAYLIGHT
BEGIN:STANDARD
TZOFFSETFROM:-0400
TZOFFSETTO:-0500
TZNAME:EST
DTSTART:20201101T060000
END:STANDARD
BEGIN:DAYLIGHT
TZOFFSETFROM:-0500
TZOFFSETTO:-0400
TZNAME:EDT
DTSTART:20210314T070000
END:DAYLIGHT
BEGIN:STANDARD
TZOFFSETFROM:-0400
TZOFFSETTO:-0500
TZNAME:EST
DTSTART:20211107T060000
END:STANDARD
BEGIN:DAYLIGHT
TZOFFSETFROM:-0500
TZOFFSETTO:-0400
TZNAME:EDT
DTSTART:20220313T070000
END:DAYLIGHT
BEGIN:STANDARD
TZOFFSETFROM:-0400
TZOFFSETTO:-0500
TZNAME:EST
DTSTART:20221106T060000
END:STANDARD
END:VTIMEZONE
BEGIN:VEVENT
DTSTART;TZID=America/Detroit:20210330T191500
DTEND;TZID=America/Detroit:20210330T201500
DTSTAMP:20260420T140351
CREATED:20210518T153719Z
LAST-MODIFIED:20210518T154620Z
UID:3182-1617131700-1617135300@invasivemusselcollaborative.net
SUMMARY:Great Lakes Now watch party: Mussel Pains\, episode premiere
DESCRIPTION:Great Lakes Now hosted a watch party on March 30\, 2021 to premiere their episode “Mussel Pains” which highlighted the Good Harbor Reef Dreissenid Mussel Control Demonstration Project conducted by the Invasive Mussel Collaborative and partners. The event was hosted on Facebook Live and included Erika Jensen\, Interim Executive Director of the Great Lakes Commission; Harvey Bootsma\, Professor in the School of Freshwater Sciences at the University of Wisconsin-Milwaukee; and David Ruck\, President of Great Lakes Outreach Media as panelists. A recording of the event is provided in the event website link.
URL:https://invasivemusselcollaborative.net/event/great-lakes-now-watch-party-mussel-pains-episode-1023-premiere/
CATEGORIES:Announcement
END:VEVENT
BEGIN:VEVENT
DTSTART;VALUE=DATE:20181129
DTEND;VALUE=DATE:20181130
DTSTAMP:20260420T140351
CREATED:20181126T221017Z
LAST-MODIFIED:20181128T190033Z
UID:1721-1543449600-1543535999@invasivemusselcollaborative.net
SUMMARY:Strategy to Advance Management of Invasive Zebra and Quagga Mussels
DESCRIPTION:The Invasive Mussel Collaborative announced today that it has released a new strategy to reduce invasive mussels and their negative impacts. The Strategy to Advance Management of Invasive Zebra and Quagga Mussels is intended to drive investments\, policy\, and research around invasive mussels across the Great Lakes region and beyond. The spread of zebra and quagga mussels across North America\, as well as recent advancements in the development of control methods\, has generated significant interest in the management and control of these damaging species. The new strategy identifies research and management objectives to guide the development of effective control methods that can be used to restore impacted ecosystems.
URL:https://invasivemusselcollaborative.net/event/strategy-to-advance-management-of-invasive-zebra-and-quagga-mussels/
CATEGORIES:Announcement
END:VEVENT
END:VCALENDAR